BEGIN:VCALENDAR
VERSION:2.0
PRODID:-//Rosie&#039;s Bake Shoppe - ECPv6.15.20//NONSGML v1.0//EN
CALSCALE:GREGORIAN
METHOD:PUBLISH
X-WR-CALNAME:Rosie&#039;s Bake Shoppe
X-ORIGINAL-URL:https://rosiesbakeshoppe.com
X-WR-CALDESC:Events for Rosie&#039;s Bake Shoppe
REFRESH-INTERVAL;VALUE=DURATION:PT1H
X-Robots-Tag:noindex
X-PUBLISHED-TTL:PT1H
BEGIN:VTIMEZONE
TZID:America/Chicago
BEGIN:DAYLIGHT
TZOFFSETFROM:-0600
TZOFFSETTO:-0500
TZNAME:CDT
DTSTART:20240310T080000
END:DAYLIGHT
BEGIN:STANDARD
TZOFFSETFROM:-0500
TZOFFSETTO:-0600
TZNAME:CST
DTSTART:20241103T070000
END:STANDARD
BEGIN:DAYLIGHT
TZOFFSETFROM:-0600
TZOFFSETTO:-0500
TZNAME:CDT
DTSTART:20250309T080000
END:DAYLIGHT
BEGIN:STANDARD
TZOFFSETFROM:-0500
TZOFFSETTO:-0600
TZNAME:CST
DTSTART:20251102T070000
END:STANDARD
BEGIN:DAYLIGHT
TZOFFSETFROM:-0600
TZOFFSETTO:-0500
TZNAME:CDT
DTSTART:20260308T080000
END:DAYLIGHT
BEGIN:STANDARD
TZOFFSETFROM:-0500
TZOFFSETTO:-0600
TZNAME:CST
DTSTART:20261101T070000
END:STANDARD
END:VTIMEZONE
BEGIN:VEVENT
DTSTART;TZID=America/Chicago:20250628T080000
DTEND;TZID=America/Chicago:20250628T120000
DTSTAMP:20260424T070738
CREATED:20250522T153523Z
LAST-MODIFIED:20250522T153523Z
UID:2432-1751097600-1751112000@rosiesbakeshoppe.com
SUMMARY:Herculaneum Farmer Market - 6/28/2025
DESCRIPTION:Shop local artisans and food vendors.
URL:https://rosiesbakeshoppe.com/calendar/herculaneum-farmer-market-6-28-2025/
LOCATION:William C. Haggard City Park\, 776 Joachim Ave.\, Herculaneum\, Missouri\, 63048\, United States
CATEGORIES:Markets & Fairs
ATTACH;FMTTYPE=image/png:https://rosiesbakeshoppe.com/wp-content/uploads/2025/05/Herculaneum-Farmer-Market-16x9-1.png
END:VEVENT
BEGIN:VEVENT
DTSTART;TZID=America/Chicago:20250615T090000
DTEND;TZID=America/Chicago:20250615T110000
DTSTAMP:20260424T070738
CREATED:20250522T233931Z
LAST-MODIFIED:20250522T233931Z
UID:2456-1749978000-1749985200@rosiesbakeshoppe.com
SUMMARY:Bakery Porch Pop-Up: Father's Day
DESCRIPTION:Grab all the tasty treats for Dad this Father’s Day (or save some for yourself!) at my Bakery Porch Pop-Up. \nThis self-serve event is built on the honor system. You can select the items you want\, add up your total cost\, and pay via the cash dropbox or scan the Venmo QR code at the stand. \n729 N. Mill St.\, Festus \nIf you steal\, I will not provide treats at events like this again. Please don’t ruin it for everyone.
URL:https://rosiesbakeshoppe.com/calendar/bakery-porch-pop-up-fathers-day/
LOCATION:MO
CATEGORIES:Pop-Ups
ATTACH;FMTTYPE=image/png:https://rosiesbakeshoppe.com/wp-content/uploads/2025/05/porch-popup-1920x1080-1.png
END:VEVENT
BEGIN:VEVENT
DTSTART;TZID=America/Chicago:20250607T080000
DTEND;TZID=America/Chicago:20250607T120000
DTSTAMP:20260424T070738
CREATED:20250522T152204Z
LAST-MODIFIED:20250522T152334Z
UID:2418-1749283200-1749297600@rosiesbakeshoppe.com
SUMMARY:Cape Riverfront Market - Marketeers Festival
DESCRIPTION:Shop local artisans\, farmers\, and food vendors in Cape Girardeau.
URL:https://rosiesbakeshoppe.com/calendar/cape-riverfront-market-marketeers-festival/
LOCATION:Cape Riverfront Market\, 35 S. Spanish St.\, Cape Girardeau\, MO\, 63701\, United States
CATEGORIES:Markets & Fairs
ATTACH;FMTTYPE=image/png:https://rosiesbakeshoppe.com/wp-content/uploads/2025/05/Cape-Riverfront-Market-Logo-16x9-1.png
END:VEVENT
BEGIN:VEVENT
DTSTART;TZID=America/Chicago:20250524T080000
DTEND;TZID=America/Chicago:20250524T120000
DTSTAMP:20260424T070738
CREATED:20250522T143109Z
LAST-MODIFIED:20250522T143624Z
UID:2401-1748073600-1748088000@rosiesbakeshoppe.com
SUMMARY:Herculaneum Farmer Market - 5/24/25
DESCRIPTION:Shop local artisans and food vendors.\nRosie’s Bake Shoppe Menu:\n\nChocolate Chip Cookies\nSalted Caramel Brownies\nCookies & Cream Cake\nStrawberry Crunch Cake\nChocolate & Peanut Butter Stuffed Cookies\nCookie Butter Stuffed Cookies\nS’mores Cookie Pan
URL:https://rosiesbakeshoppe.com/calendar/herculaneum-farmer-market-5-24-25/
LOCATION:William C. Haggard City Park\, 776 Joachim Ave.\, Herculaneum\, Missouri\, 63048\, United States
CATEGORIES:Markets & Fairs
ATTACH;FMTTYPE=image/png:https://rosiesbakeshoppe.com/wp-content/uploads/2025/05/Herculaneum-Farmer-Market-16x9-1.png
END:VEVENT
END:VCALENDAR