BEGIN:VCALENDAR
VERSION:2.0
PRODID:-//Rosie&#039;s Bake Shoppe - ECPv6.15.20//NONSGML v1.0//EN
CALSCALE:GREGORIAN
METHOD:PUBLISH
X-WR-CALNAME:Rosie&#039;s Bake Shoppe
X-ORIGINAL-URL:https://rosiesbakeshoppe.com
X-WR-CALDESC:Events for Rosie&#039;s Bake Shoppe
REFRESH-INTERVAL;VALUE=DURATION:PT1H
X-Robots-Tag:noindex
X-PUBLISHED-TTL:PT1H
BEGIN:VTIMEZONE
TZID:America/Chicago
BEGIN:DAYLIGHT
TZOFFSETFROM:-0600
TZOFFSETTO:-0500
TZNAME:CDT
DTSTART:20240310T080000
END:DAYLIGHT
BEGIN:STANDARD
TZOFFSETFROM:-0500
TZOFFSETTO:-0600
TZNAME:CST
DTSTART:20241103T070000
END:STANDARD
BEGIN:DAYLIGHT
TZOFFSETFROM:-0600
TZOFFSETTO:-0500
TZNAME:CDT
DTSTART:20250309T080000
END:DAYLIGHT
BEGIN:STANDARD
TZOFFSETFROM:-0500
TZOFFSETTO:-0600
TZNAME:CST
DTSTART:20251102T070000
END:STANDARD
BEGIN:DAYLIGHT
TZOFFSETFROM:-0600
TZOFFSETTO:-0500
TZNAME:CDT
DTSTART:20260308T080000
END:DAYLIGHT
BEGIN:STANDARD
TZOFFSETFROM:-0500
TZOFFSETTO:-0600
TZNAME:CST
DTSTART:20261101T070000
END:STANDARD
BEGIN:DAYLIGHT
TZOFFSETFROM:-0600
TZOFFSETTO:-0500
TZNAME:CDT
DTSTART:20270314T080000
END:DAYLIGHT
BEGIN:STANDARD
TZOFFSETFROM:-0500
TZOFFSETTO:-0600
TZNAME:CST
DTSTART:20271107T070000
END:STANDARD
END:VTIMEZONE
BEGIN:VEVENT
DTSTART;VALUE=DATE:20251130
DTEND;VALUE=DATE:20260104
DTSTAMP:20260423T193049
CREATED:20251115T132436Z
LAST-MODIFIED:20251119T153006Z
UID:2585-1764460800-1767484799@rosiesbakeshoppe.com
SUMMARY:Custom Orders - Fully Booked
DESCRIPTION:Rosie’s Bake Shoppe is fully booked and unable to take new custom orders during this time.
URL:https://rosiesbakeshoppe.com/calendar/custom-orders-fully-booked-2/
LOCATION:MO
CATEGORIES:Custom Order Availability
ATTACH;FMTTYPE=image/png:https://rosiesbakeshoppe.com/wp-content/uploads/2025/05/CustomOrders-availability-calendar-booked.png
END:VEVENT
BEGIN:VEVENT
DTSTART;TZID=America/Chicago:20251221T130000
DTEND;TZID=America/Chicago:20251221T143000
DTSTAMP:20260423T193049
CREATED:20251202T191133Z
LAST-MODIFIED:20251202T191315Z
UID:2620-1766322000-1766327400@rosiesbakeshoppe.com
SUMMARY:Hoofprints On My Heart Cookie Class Benefit
DESCRIPTION:Join me at the Festus/Crystal City Elks Lodge on December 21 at 1 PM for a Christmas Cookie Decorating Class benefiting Hoofprints On My Heart\, a non-profit organization that uses miniature horse encounters in the community to enhance the quality of life with hugs & smiles! \nA portion of all ticket sales will go directly to Hoofprints On My Heart! \nThe class lasts 1.5 hours and is for all ages 8+. \nAll supplies are provided—just bring your creativity! All attendees must be registered to participate. \nPurchase Tickets Here
URL:https://rosiesbakeshoppe.com/calendar/hoofprints-on-my-heart-cookie-class-benefit/
LOCATION:Festus/Crystal City Elks Lodge\, 4 Elks Club\, Festus\, MO\, 63028\, United States
CATEGORIES:Classes
ATTACH;FMTTYPE=image/jpeg:https://rosiesbakeshoppe.com/wp-content/uploads/2025/12/4-cookieset-1x1-1.jpg
END:VEVENT
END:VCALENDAR